BEGIN:VCALENDAR
VERSION:2.0
PRODID:-//Tukios.com/
BEGIN:VEVENT
UID:f748e8d7-50ee-4309-930a-5fe322b206f1@www.gerdesmeyerfh.com
DTSTAMP:20260422T224948Z
DTSTART:20260426T210000Z
DTEND:20260426T230000Z
SUMMARY:Visitation with Family
DESCRIPTION:
URL:https://www.gerdesmeyerfh.com/obituaries/jim-schoenrock
LOCATION: 2414 H St  Fairbury NE 68352
GEO:40.1585863;-97.1754904
END:VEVENT
END:VCALENDAR