BEGIN:VCALENDAR
VERSION:2.0
PRODID:-//Tukios.com/
BEGIN:VEVENT
UID:7be0bb62-8560-4d0c-9642-98da7fc124d7@www.gerdesmeyerfh.com
DTSTAMP:20260422T224731Z
DTSTART:20260427T140000Z
DTEND:20260427T150000Z
SUMMARY:Celebration of Life
DESCRIPTION:
URL:https://www.gerdesmeyerfh.com/obituaries/jim-schoenrock
LOCATION: 56205 713th Road  Fairbury NE 68352
GEO:40.1618254;-97.2927474
END:VEVENT
END:VCALENDAR